BEGIN:VCALENDAR
VERSION:2.0
PRODID:-//Wrea Green Tennis Club - ECPv6.15.20//NONSGML v1.0//EN
CALSCALE:GREGORIAN
METHOD:PUBLISH
X-WR-CALNAME:Wrea Green Tennis Club
X-ORIGINAL-URL:https://wreagreentennis.co.uk
X-WR-CALDESC:Events for Wrea Green Tennis Club
REFRESH-INTERVAL;VALUE=DURATION:PT1H
X-Robots-Tag:noindex
X-PUBLISHED-TTL:PT1H
BEGIN:VTIMEZONE
TZID:UTC
BEGIN:STANDARD
TZOFFSETFROM:+0000
TZOFFSETTO:+0000
TZNAME:UTC
DTSTART:20210101T000000
END:STANDARD
END:VTIMEZONE
BEGIN:VEVENT
DTSTART;TZID=UTC:20250907T120000
DTEND;TZID=UTC:20250907T170000
DTSTAMP:20260424T160848
CREATED:20250715T173154Z
LAST-MODIFIED:20250715T173154Z
UID:1000-1757246400-1757264400@wreagreentennis.co.uk
SUMMARY:Tennis Finals Day - Sunday 7th September
DESCRIPTION:Join us for a fantastic day of tennis as we crown this year’s champions! Finals Day is always a highlight of the club calendar\, with exciting matches\, great atmosphere\, and plenty of support from friends\, family and fellow members. Whether you’re playing or spectating\, come down and enjoy the action\, refreshments\, and celebration of another brilliant season. Everyone welcome!
URL:https://wreagreentennis.co.uk/event/tennis-finals-day-sunday-7th-september/
LOCATION:Wrea Green Tennis Club\, Mill Lane\, Wrea Green\, Preston\, PPR4 2WP\, United Kingdom
ORGANIZER;CN="WGTC Committee":MAILTO:wreagreentc@hotmail.com
END:VEVENT
BEGIN:VEVENT
DTSTART;VALUE=DATE:20250728
DTEND;VALUE=DATE:20250802
DTSTAMP:20260424T160848
CREATED:20250715T095909Z
LAST-MODIFIED:20250715T095909Z
UID:997-1753660800-1754092799@wreagreentennis.co.uk
SUMMARY:Stuart Grice & Michael Brown - Kid's Multisport Summercamp
DESCRIPTION:Running from 28th July to 1st August\, this tennis-focused camp is perfect for young players looking to improve their skills in a fun\, friendly environment. Led by Stuart Grice and Michael Brown.£25 per day (members £23) or £110 for the full week (£100 for members). \nTo book a space\, contact Stuart directly on 07478 785797
URL:https://wreagreentennis.co.uk/event/stuart-grice-michael-brown-kids-multisport-summercamp/
LOCATION:Wrea Green Tennis Club\, Mill Lane\, Wrea Green\, Preston\, PPR4 2WP\, United Kingdom
ORGANIZER;CN="WGTC Committee":MAILTO:wreagreentc@hotmail.com
END:VEVENT
BEGIN:VEVENT
DTSTART;VALUE=DATE:20250723
DTEND;VALUE=DATE:20250726
DTSTAMP:20260424T160848
CREATED:20250715T095703Z
LAST-MODIFIED:20250715T095703Z
UID:991-1753228800-1753487999@wreagreentennis.co.uk
SUMMARY:Stuart Grice - Kid's Multisport Summercamp
DESCRIPTION:Multi Sports Camp with Stuart Grice\nJoin us from 23rd to 25th July for a fun-filled multi sports camp led by Stuart Grice.\n£20 per day (members £18) or £50 for all three days. \nTo book a space\, contact Stuart directly on 07478 785797
URL:https://wreagreentennis.co.uk/event/stuart-grice-kids-multisport-summercamp/
LOCATION:Wrea Green Tennis Club\, Mill Lane\, Wrea Green\, Preston\, PPR4 2WP\, United Kingdom
ORGANIZER;CN="WGTC Committee":MAILTO:wreagreentc@hotmail.com
END:VEVENT
BEGIN:VEVENT
DTSTART;TZID=UTC:20250406T080000
DTEND;TZID=UTC:20250406T170000
DTSTAMP:20260424T160848
CREATED:20250212T145145Z
LAST-MODIFIED:20250212T145145Z
UID:959-1743926400-1743958800@wreagreentennis.co.uk
SUMMARY:Season Opening Tournament
DESCRIPTION:Sunday 6th April – Season Opening Tournament
URL:https://wreagreentennis.co.uk/event/season-opening-tournament/
LOCATION:Wrea Green Tennis Club\, Mill Lane\, Wrea Green\, Preston\, PPR4 2WP\, United Kingdom
ORGANIZER;CN="WGTC Committee":MAILTO:wreagreentc@hotmail.com
END:VEVENT
BEGIN:VEVENT
DTSTART;TZID=UTC:20250322T080000
DTEND;TZID=UTC:20250322T170000
DTSTAMP:20260424T160848
CREATED:20250212T145104Z
LAST-MODIFIED:20250212T145104Z
UID:957-1742630400-1742662800@wreagreentennis.co.uk
SUMMARY:6 weeks coaching for adult beginners commences – non-members welcome
DESCRIPTION:6 weeks coaching for adult beginners commences – non-members welcome
URL:https://wreagreentennis.co.uk/event/6-weeks-coaching-for-adult-beginners-commences-non-members-welcome/
LOCATION:Wrea Green Tennis Club\, Mill Lane\, Wrea Green\, Preston\, PPR4 2WP\, United Kingdom
ORGANIZER;CN="WGTC Committee":MAILTO:wreagreentc@hotmail.com
END:VEVENT
BEGIN:VEVENT
DTSTART;TZID=UTC:20250322T080000
DTEND;TZID=UTC:20250322T170000
DTSTAMP:20260424T160848
CREATED:20250212T145028Z
LAST-MODIFIED:20250212T145208Z
UID:955-1742630400-1742662800@wreagreentennis.co.uk
SUMMARY:6 weeks FREE coaching for junior members commences
DESCRIPTION:6 weeks FREE coaching for junior members commences
URL:https://wreagreentennis.co.uk/event/6-weeks-free-coaching-for-junior-members-commences/
LOCATION:Wrea Green Tennis Club\, Mill Lane\, Wrea Green\, Preston\, PPR4 2WP\, United Kingdom
ORGANIZER;CN="WGTC Committee":MAILTO:wreagreentc@hotmail.com
END:VEVENT
BEGIN:VEVENT
DTSTART;TZID=UTC:20250207T080000
DTEND;TZID=UTC:20250207T170000
DTSTAMP:20260424T160848
CREATED:20250212T144854Z
LAST-MODIFIED:20250212T144854Z
UID:952-1738915200-1738947600@wreagreentennis.co.uk
SUMMARY:Quiz Night
DESCRIPTION:WGTC Quiz Night @ The ‘Tute\, Station Road\, Wrea Green.
URL:https://wreagreentennis.co.uk/event/quiz-night/
LOCATION:The ‘Tute\, Station Road\, Wrea Green.
ORGANIZER;CN="WGTC Committee":MAILTO:wreagreentc@hotmail.com
END:VEVENT
BEGIN:VEVENT
DTSTART;TZID=UTC:20240908T100000
DTEND;TZID=UTC:20240908T170000
DTSTAMP:20260424T160848
CREATED:20220314T161408Z
LAST-MODIFIED:20240327T142521Z
UID:610-1725789600-1725814800@wreagreentennis.co.uk
SUMMARY:Tennis Finals Day
DESCRIPTION:Tennis finals day will be on 8th September 2024
URL:https://wreagreentennis.co.uk/event/tennis-finals-day/
LOCATION:Wrea Green Tennis Club\, Mill Lane\, Wrea Green\, Preston\, PPR4 2WP\, United Kingdom
ORGANIZER;CN="WGTC Committee":MAILTO:wreagreentc@hotmail.com
END:VEVENT
BEGIN:VEVENT
DTSTART;TZID=UTC:20240722T080000
DTEND;TZID=UTC:20240726T170000
DTSTAMP:20260424T160848
CREATED:20220316T133928Z
LAST-MODIFIED:20240327T142716Z
UID:650-1721635200-1722013200@wreagreentennis.co.uk
SUMMARY:Tennis Summer Camp - Michael Brown
DESCRIPTION:Tennis Summer Camp – Michael Brown\nMichael Brown will be running our junior summer tennis camp\, which is in July week beginning 22nd July.
URL:https://wreagreentennis.co.uk/event/tennis-summer-camp-michael-brown/
LOCATION:Wrea Green Tennis Club\, Mill Lane\, Wrea Green\, Preston\, PPR4 2WP\, United Kingdom
END:VEVENT
BEGIN:VEVENT
DTSTART;TZID=UTC:20240420T100000
DTEND;TZID=UTC:20240420T170000
DTSTAMP:20260424T160848
CREATED:20230313T145635Z
LAST-MODIFIED:20240327T142555Z
UID:824-1713607200-1713632400@wreagreentennis.co.uk
SUMMARY:Junior Tennis Starts
DESCRIPTION:We’re starting our junior tennis lessons on 20h April at Wrea Green Tennis Club. \nAll juniors get 8 FREE Lessons! \nLessons start from 10am \nContact a member of the committee for more information.
URL:https://wreagreentennis.co.uk/event/junior-tennis-starts/
LOCATION:Wrea Green Tennis Club\, Mill Lane\, Wrea Green\, Preston\, PPR4 2WP\, United Kingdom
ORGANIZER;CN="WGTC Committee":MAILTO:wreagreentc@hotmail.com
END:VEVENT
BEGIN:VEVENT
DTSTART;TZID=UTC:20240414T100000
DTEND;TZID=UTC:20240414T170000
DTSTAMP:20260424T160848
CREATED:20240327T142823Z
LAST-MODIFIED:20240409T151607Z
UID:884-1713088800-1713114000@wreagreentennis.co.uk
SUMMARY:Opening Tournament
DESCRIPTION:Our opening tournament begins on 7th April.
URL:https://wreagreentennis.co.uk/event/opening-tournament/
LOCATION:Wrea Green Tennis Club\, Mill Lane\, Wrea Green\, Preston\, PPR4 2WP\, United Kingdom
ORGANIZER;CN="WGTC Committee":MAILTO:wreagreentc@hotmail.com
END:VEVENT
BEGIN:VEVENT
DTSTART;TZID=UTC:20230402T123000
DTEND;TZID=UTC:20230402T170000
DTSTAMP:20260424T160848
CREATED:20230309T233210Z
LAST-MODIFIED:20230309T233210Z
UID:791-1680438600-1680454800@wreagreentennis.co.uk
SUMMARY:The Pam Johnson American Tournament
DESCRIPTION:WILL BE HELD ON \nSUNDAY 2nd APRIL \nRegistration 12.30pm \nEntry fee £1.00 \nA FUN AND FRIENDLY AFTERNOON OF TENNIS \nOPEN TO ALL MEMBERS \nAND PROSPECTIVE NEW MEMBERS \nREFRESHMENTS AVAILABLE
URL:https://wreagreentennis.co.uk/event/the-pam-johnson-american-tournament/
LOCATION:Wrea Green Tennis Club\, Mill Lane\, Wrea Green\, Preston\, PPR4 2WP\, United Kingdom
ORGANIZER;CN="WGTC Committee":MAILTO:wreagreentc@hotmail.com
END:VEVENT
BEGIN:VEVENT
DTSTART;TZID=UTC:20230120T190000
DTEND;TZID=UTC:20230120T223000
DTSTAMP:20260424T160848
CREATED:20221125T125513Z
LAST-MODIFIED:20221125T125513Z
UID:780-1674241200-1674253800@wreagreentennis.co.uk
SUMMARY:Quiz Night & Hot Pot Supper
DESCRIPTION:In the Institute\, Wrea Green \nQuizmaster : Chris James \nCome and test your knowledge and have fun! \nGet a team together with friends (approx 6) \nAll Welcome \nCost £7.00 \nFor catering purposes\, tickets will be available from any committee member or email myt.nelson@gmail.com
URL:https://wreagreentennis.co.uk/event/quiz-night-hot-pot-supper/
LOCATION:Wrea Green Tennis Club\, Mill Lane\, Wrea Green\, Preston\, PPR4 2WP\, United Kingdom
ORGANIZER;CN="WGTC Committee":MAILTO:wreagreentc@hotmail.com
END:VEVENT
BEGIN:VEVENT
DTSTART;TZID=UTC:20220806T133000
DTEND;TZID=UTC:20220806T170000
DTSTAMP:20260424T160848
CREATED:20220719T120054Z
LAST-MODIFIED:20220719T120054Z
UID:772-1659792600-1659805200@wreagreentennis.co.uk
SUMMARY:Wrea Green Tennis Ladies Day
DESCRIPTION:6th August 2022
URL:https://wreagreentennis.co.uk/event/wrea-green-tennis-ladies-day/
LOCATION:Wrea Green Tennis Club\, Mill Lane\, Wrea Green\, Preston\, PPR4 2WP\, United Kingdom
ORGANIZER;CN="WGTC Committee":MAILTO:wreagreentc@hotmail.com
END:VEVENT
BEGIN:VEVENT
DTSTART;VALUE=DATE:20220410
DTEND;VALUE=DATE:20220411
DTSTAMP:20260424T160848
CREATED:20220308T161326Z
LAST-MODIFIED:20220316T132824Z
UID:534-1649548800-1649635199@wreagreentennis.co.uk
SUMMARY:Tennis Fun Day with Danny Sapsford
DESCRIPTION:SUNDAY 10th APRIL 2022 | 10am – 3pm\n\nWe are excited to announce that Danny Sapsford\, an ex-Davis cup professional will host a fun open tennis day at Wrea Green Tennis Club!\nThe day will include: \n\nCoaching sessions for kids\, teenagers and adults (Subject to demand there may be a draw for participation in these sessions).\nAn exhibition match when our own club members will join the professionals!\n\nProposed Schedule:  \n10:100 – 10:45 – Kids Coaching (6-10 years)\n10:45 – 11:30  – Teenage Coaching (11-16 years)\n11:30 – 12:40 – Adult Coaching (Beginner / Intermediate)\n12:30 – 1:30 – Adult Team Session (Advanced)\n1:30 – 2:00 – Fastest Serve\n2:00 – 3:00 – Exhibition Doubles Match \nEveryone is welcome to this event which we hope will be an opportunity for both players and non-players to visit our club\, enjoy the day and partake of complimentary refreshments. \n\nAdmission:\nAdults £5.00 | Kids £2.00 \n*ENTRY BY TICKET ONLY*
URL:https://wreagreentennis.co.uk/event/tennis-fun-day-with-danny-sapsford/
LOCATION:Wrea Green Tennis Club\, Mill Lane\, Wrea Green\, Preston\, PPR4 2WP\, United Kingdom
ORGANIZER;CN="WGTC Committee":MAILTO:wreagreentc@hotmail.com
END:VEVENT
BEGIN:VEVENT
DTSTART;VALUE=DATE:20220403
DTEND;VALUE=DATE:20220404
DTSTAMP:20260424T160848
CREATED:20220308T161033Z
LAST-MODIFIED:20220316T132740Z
UID:532-1648944000-1649030399@wreagreentennis.co.uk
SUMMARY:The Pam Johnson Tournament
DESCRIPTION:The Pam Johnson Tournament\nOur opening tennis tournament for 2022 is named in memory of Pam Johnson\, a former committee member and much-loved face down at Wrea Green Tennis Club. \nJoin us for an American Tournament on 03/04/2022 with registration from 12:30pm and play due to start at 1:00pm. \n\nRefreshments will also be available throughout the day.
URL:https://wreagreentennis.co.uk/event/the-pam-johnson-tournament/
LOCATION:Wrea Green Tennis Club\, Mill Lane\, Wrea Green\, Preston\, PPR4 2WP\, United Kingdom
ORGANIZER;CN="WGTC Committee":MAILTO:wreagreentc@hotmail.com
END:VEVENT
END:VCALENDAR